BEGIN:VCALENDAR
VERSION:2.0
PRODID:-//AI Experience - ECPv6.15.20//NONSGML v1.0//EN
CALSCALE:GREGORIAN
METHOD:PUBLISH
X-WR-CALNAME:AI Experience
X-ORIGINAL-URL:https://theaixp.com
X-WR-CALDESC:Events for AI Experience
REFRESH-INTERVAL;VALUE=DURATION:PT1H
X-Robots-Tag:noindex
X-PUBLISHED-TTL:PT1H
BEGIN:VTIMEZONE
TZID:America/Chicago
BEGIN:DAYLIGHT
TZOFFSETFROM:-0600
TZOFFSETTO:-0500
TZNAME:CDT
DTSTART:20250309T080000
END:DAYLIGHT
BEGIN:STANDARD
TZOFFSETFROM:-0500
TZOFFSETTO:-0600
TZNAME:CST
DTSTART:20251102T070000
END:STANDARD
BEGIN:DAYLIGHT
TZOFFSETFROM:-0600
TZOFFSETTO:-0500
TZNAME:CDT
DTSTART:20260308T080000
END:DAYLIGHT
BEGIN:STANDARD
TZOFFSETFROM:-0500
TZOFFSETTO:-0600
TZNAME:CST
DTSTART:20261101T070000
END:STANDARD
BEGIN:DAYLIGHT
TZOFFSETFROM:-0600
TZOFFSETTO:-0500
TZNAME:CDT
DTSTART:20270314T080000
END:DAYLIGHT
BEGIN:STANDARD
TZOFFSETFROM:-0500
TZOFFSETTO:-0600
TZNAME:CST
DTSTART:20271107T070000
END:STANDARD
END:VTIMEZONE
BEGIN:VEVENT
DTSTART;VALUE=DATE:20260414
DTEND;VALUE=DATE:20260615
DTSTAMP:20260420T075150
CREATED:20260214T211118Z
LAST-MODIFIED:20260416T151615Z
UID:403-1776124800-1781481599@theaixp.com
SUMMARY:AI Experience (AIXP) 2026
DESCRIPTION:Invest in your future at AI Experience (AIXP) 2026. Whether you’re looking to get your feet wet with our BASIC PASS or want the full immersive experience with the VIP PASS\, we have a registration tier designed for your goals. Join us in Houston this April to gain actionable insights\, network with AI pioneers\, and master the tools that are redefining industries. Secure your spot today to take advantage of early-bird pricing.
URL:https://theaixp.com/event/ai-experience-aixp-2026/
ORGANIZER;CN="AIXP":MAILTO:hello@theaixp.com
END:VEVENT
END:VCALENDAR